BEGIN:VCALENDAR
VERSION:2.0
PRODID:-//Knowledge and Education Leaders
CALSCALE:GREGORIAN
METHOD:PUBLISH
X-WR-CALNAME:Knowledge and Education Leaders
X-ORIGINAL-URL:https://keleaders.com/product/ifrs-for-the-oil-gas-and-petrochemical-industries/
X-WR-CALDESC:IFRS for the Oil, Gas, and Petrochemical Industries
BEGIN:VEVENT
DTSTART;TZID=Europe/London:20261005T000000
DTEND;TZID=Europe/London:20261009T000000
SUMMARY:IFRS for the Oil, Gas, and Petrochemical Industries
DESCRIPTION:
URL:https://keleaders.com/product/ifrs-for-the-oil-gas-and-petrochemical-industries/
LOCATION:08 Hermitage Street Central London W2 1BE, England, United Kingdom.
END:VEVENT
END:VCALENDAR
