BEGIN:VCALENDAR
VERSION:2.0
PRODID:-//Knowledge and Education Leaders
CALSCALE:GREGORIAN
METHOD:PUBLISH
X-WR-CALNAME:Knowledge and Education Leaders
X-ORIGINAL-URL:https://keleaders.com/product/corporate-financial-planning-budgeting-and-control/
X-WR-CALDESC:Corporate Financial Planning, Budgeting, and Control
BEGIN:VEVENT
DTSTART;TZID=Europe/London:20260715T000000
DTEND;TZID=Europe/London:20260715T000000
SUMMARY:Corporate Financial Planning, Budgeting, and Control
DESCRIPTION:
URL:https://keleaders.com/product/corporate-financial-planning-budgeting-and-control/
LOCATION:08 Hermitage Street Central London W2 1BE, England, United Kingdom.
END:VEVENT
END:VCALENDAR
