BEGIN:VCALENDAR
VERSION:2.0
PRODID:-//Knowledge and Education Leaders
CALSCALE:GREGORIAN
METHOD:PUBLISH
X-WR-CALNAME:Knowledge and Education Leaders
X-ORIGINAL-URL:https://keleaders.com/product/sophisticated-budgeting-and-cost-oversight/
X-WR-CALDESC:Sophisticated Budgeting and Cost Oversight
BEGIN:VEVENT
DTSTART;TZID=Europe/London:20260702T000000
DTEND;TZID=Europe/London:20260702T000000
SUMMARY:Sophisticated Budgeting and Cost Oversight
DESCRIPTION:
URL:https://keleaders.com/product/sophisticated-budgeting-and-cost-oversight/
LOCATION:08 Hermitage Street Central London W2 1BE, England, United Kingdom.
END:VEVENT
END:VCALENDAR
