BEGIN:VCALENDAR
VERSION:2.0
PRODID:-//Knowledge and Education Leaders
CALSCALE:GREGORIAN
METHOD:PUBLISH
X-WR-CALNAME:Knowledge and Education Leaders
X-ORIGINAL-URL:https://keleaders.com/product/professional-practice-in-fidic-contracts/
X-WR-CALDESC:Professional Practice in FIDIC Contracts
BEGIN:VEVENT
DTSTART;TZID=Europe/London:20260406T000000
DTEND;TZID=Europe/London:20260410T000000
SUMMARY:Professional Practice in FIDIC Contracts
DESCRIPTION:
URL:https://keleaders.com/product/professional-practice-in-fidic-contracts/
LOCATION:08 Hermitage Street Central London W2 1BE, England, United Kingdom.
END:VEVENT
END:VCALENDAR
