BEGIN:VCALENDAR
VERSION:2.0
PRODID:-//Knowledge and Education Leaders
CALSCALE:GREGORIAN
METHOD:PUBLISH
X-WR-CALNAME:Knowledge and Education Leaders
X-ORIGINAL-URL:https://keleaders.com/product/advanced-negotiation-skills-for-the-oil-gas-industry/
X-WR-CALDESC:Advanced Negotiation Skills for the Oil &#038; Gas Industry
BEGIN:VEVENT
DTSTART;TZID=Europe/London:20260119T000000
DTEND;TZID=Europe/London:20260123T000000
SUMMARY:Advanced Negotiation Skills for the Oil & Gas Industry
DESCRIPTION:
URL:https://keleaders.com/product/advanced-negotiation-skills-for-the-oil-gas-industry/
LOCATION:
END:VEVENT
END:VCALENDAR
