BEGIN:VCALENDAR
VERSION:2.0
PRODID:-//Knowledge and Education Leaders
CALSCALE:GREGORIAN
METHOD:PUBLISH
X-WR-CALNAME:Knowledge and Education Leaders
X-ORIGINAL-URL:https://keleaders.com/product/contracts-in-upstream-petroleum/
X-WR-CALDESC:Contracts in Upstream Petroleum
BEGIN:VEVENT
DTSTART;TZID=Europe/London:20260921T000000
DTEND;TZID=Europe/London:20260925T000000
SUMMARY:Contracts in Upstream Petroleum
DESCRIPTION:
URL:https://keleaders.com/product/contracts-in-upstream-petroleum/
LOCATION:08 Hermitage Street Central London W2 1BE, England, United Kingdom.
END:VEVENT
END:VCALENDAR
