BEGIN:VCALENDAR
VERSION:2.0
PRODID:-//Knowledge and Education Leaders
CALSCALE:GREGORIAN
METHOD:PUBLISH
X-WR-CALNAME:Knowledge and Education Leaders
X-ORIGINAL-URL:https://keleaders.com/product/public-private-partnerships-in-the-road-sector/
X-WR-CALDESC:Public-Private Partnerships in the Road Sector
BEGIN:VEVENT
DTSTART;TZID=Europe/London:20260810T000000
DTEND;TZID=Europe/London:20260814T000000
SUMMARY:Public-Private Partnerships in the Road Sector
DESCRIPTION:
URL:https://keleaders.com/product/public-private-partnerships-in-the-road-sector/
LOCATION:08 Hermitage Street Central London W2 1BE, England, United Kingdom.
END:VEVENT
END:VCALENDAR
