BEGIN:VCALENDAR
VERSION:2.0
PRODID:-//Knowledge and Education Leaders
CALSCALE:GREGORIAN
METHOD:PUBLISH
X-WR-CALNAME:Knowledge and Education Leaders
X-ORIGINAL-URL:https://keleaders.com/product/creating-a-local-content-matrix-to-attain-sdgs-esg-goals-and-enhance-in-country-value-retention/
X-WR-CALDESC:Creating a Local Content Matrix to Attain SDGs, ESG Goals, and Enhance In-Country Value Retention
BEGIN:VEVENT
DTSTART;TZID=Europe/London:20260216T000000
DTEND;TZID=Europe/London:20260220T000000
SUMMARY:Creating a Local Content Matrix to Attain SDGs, ESG Goals, and Enhance In-Country Value Retention
DESCRIPTION:
URL:https://keleaders.com/product/creating-a-local-content-matrix-to-attain-sdgs-esg-goals-and-enhance-in-country-value-retention/
LOCATION:
END:VEVENT
END:VCALENDAR
