BEGIN:VCALENDAR
VERSION:2.0
PRODID:-//Knowledge and Education Leaders
CALSCALE:GREGORIAN
METHOD:PUBLISH
X-WR-CALNAME:Knowledge and Education Leaders
X-ORIGINAL-URL:https://keleaders.com/product/mastering-contract-management-the-oxford-5-day-mba-program/
X-WR-CALDESC:Mastering Contract Management: The Oxford 5-Day MBA Program
BEGIN:VEVENT
DTSTART;TZID=Europe/London:20260126T000000
DTEND;TZID=Europe/London:20260130T000000
SUMMARY:Mastering Contract Management: The Oxford 5-Day MBA Program
DESCRIPTION:
URL:https://keleaders.com/product/mastering-contract-management-the-oxford-5-day-mba-program/
LOCATION:
END:VEVENT
END:VCALENDAR
