BEGIN:VCALENDAR
VERSION:2.0
PRODID:-//Knowledge and Education Leaders
CALSCALE:GREGORIAN
METHOD:PUBLISH
X-WR-CALNAME:Knowledge and Education Leaders
X-ORIGINAL-URL:https://keleaders.com/product/global-dispute-resolution-and-arbitration/
X-WR-CALDESC:Global Dispute Resolution and Arbitration
BEGIN:VEVENT
DTSTART;TZID=Europe/London:20260101T000000
DTEND;TZID=Europe/London:20260101T000000
SUMMARY:Global Dispute Resolution and Arbitration
DESCRIPTION:
URL:https://keleaders.com/product/global-dispute-resolution-and-arbitration/
LOCATION:
END:VEVENT
END:VCALENDAR
