BEGIN:VCALENDAR
VERSION:2.0
PRODID:-//Knowledge and Education Leaders
CALSCALE:GREGORIAN
METHOD:PUBLISH
X-WR-CALNAME:Knowledge and Education Leaders
X-ORIGINAL-URL:https://keleaders.com/product/negotiating-gas-and-lng-contracts/
X-WR-CALDESC:Negotiating Gas and LNG Contract
BEGIN:VEVENT
DTSTART;TZID=Europe/London:20260126T000000
DTEND;TZID=Europe/London:20260130T000000
SUMMARY:Negotiating Gas and LNG Contract
DESCRIPTION:
URL:https://keleaders.com/product/negotiating-gas-and-lng-contracts/
LOCATION:08 Hermitage Street Central London W2 1BE, England, United Kingdom.
END:VEVENT
END:VCALENDAR
