BEGIN:VCALENDAR
VERSION:2.0
PRODID:-//Knowledge and Education Leaders
CALSCALE:GREGORIAN
METHOD:PUBLISH
X-WR-CALNAME:Knowledge and Education Leaders
X-ORIGINAL-URL:https://keleaders.com/product/contract-risk-management-and-compliance/
X-WR-CALDESC:Contract Risk Management and Compliance
BEGIN:VEVENT
DTSTART;TZID=Europe/London:20260511T000000
DTEND;TZID=Europe/London:20260515T000000
SUMMARY:Contract Risk Management and Compliance
DESCRIPTION:
URL:https://keleaders.com/product/contract-risk-management-and-compliance/
LOCATION:08 Hermitage Street Central London W2 1BE, England, United Kingdom.
END:VEVENT
END:VCALENDAR
