BEGIN:VCALENDAR
VERSION:2.0
PRODID:-//Knowledge and Education Leaders
CALSCALE:GREGORIAN
METHOD:PUBLISH
X-WR-CALNAME:Knowledge and Education Leaders
X-ORIGINAL-URL:https://keleaders.com/product/claims-management-and-dispute-prevention/
X-WR-CALDESC:Claims Management and Dispute Prevention
BEGIN:VEVENT
DTSTART;TZID=Europe/London:20260513T000000
DTEND;TZID=Europe/London:20260513T000000
SUMMARY:Claims Management and Dispute Prevention
DESCRIPTION:
URL:https://keleaders.com/product/claims-management-and-dispute-prevention/
LOCATION:08 Hermitage Street Central London W2 1BE, England, United Kingdom.
END:VEVENT
END:VCALENDAR
