BEGIN:VCALENDAR
VERSION:2.0
PRODID:-//Knowledge and Education Leaders
CALSCALE:GREGORIAN
METHOD:PUBLISH
X-WR-CALNAME:Knowledge and Education Leaders
X-ORIGINAL-URL:https://keleaders.com/product/certified-professional-contract-manager-cpcm/
X-WR-CALDESC:Best Certified Professional Contract Manager (CPCM) Exam Prep Course | 2026
BEGIN:VEVENT
DTSTART;TZID=Europe/London:20260126T000000
DTEND;TZID=Europe/London:20260130T000000
SUMMARY:Best Certified Professional Contract Manager (CPCM) Exam Prep Course | 2026
DESCRIPTION:
URL:https://keleaders.com/product/certified-professional-contract-manager-cpcm/
LOCATION:08 Hermitage Street Central London W2 1BE, England, United Kingdom.
END:VEVENT
END:VCALENDAR
