BEGIN:VCALENDAR
VERSION:2.0
PRODID:-//Knowledge and Education Leaders
CALSCALE:GREGORIAN
METHOD:PUBLISH
X-WR-CALNAME:Knowledge and Education Leaders
X-ORIGINAL-URL:https://keleaders.com/product/internship-jobs/
X-WR-CALDESC:Internship | Sponsor Licence
BEGIN:VEVENT
DTSTART;TZID=Europe/London:20241010T000000
DTEND;TZID=Europe/London:20241231T000000
SUMMARY:Internship | Sponsor Licence
DESCRIPTION:
URL:https://keleaders.com/product/internship-jobs/
LOCATION:
END:VEVENT
END:VCALENDAR
