BEGIN:VCALENDAR
VERSION:2.0
PRODID:-//Knowledge and Education Leaders
CALSCALE:GREGORIAN
METHOD:PUBLISH
X-WR-CALNAME:Knowledge and Education Leaders
X-ORIGINAL-URL:https://keleaders.com/product/public-relations-and-corporate-communication/
X-WR-CALDESC:Public Relations and Corporate Communications Training
BEGIN:VEVENT
DTSTART;TZID=Europe/London:20260727T000000
DTEND;TZID=Europe/London:20260731T000000
SUMMARY:Public Relations and Corporate Communications Training
DESCRIPTION:Public Relations and Corporate Communications Training Overview: The "Public Relations and Corporate Communications" training program is a dynamic two-day course designed to equip participants with the essential skills and knowledge required to excel in the fields of public relations (PR) and corporate communications. Participants will explore key concepts, strategies, and best practices for effective communication with stakeholders, media relations, crisis management, and reputation building. Through interactive sessions, case studies, and practical exercises, participants will gain hands-on experience in developing and implementing successful PR and corporate communication strategies. Training Objectives: Participants will: Gain an understanding of the role and importance of public relations and corporate communications in organizational success. Learn how to develop and implement strategic communication plans to effectively engage with internal and external stakeholders. Develop skills in media relations, including writing press releases, pitching stories, and managing media inquiries. Explore techniques for crisis communication and reputation management to mitigate risks and protect organizational reputation. Learn how to leverage digital and social media platforms for effective communication and engagement. Gain insights into ethical considerations and best practices in public relations and corporate communications. Training Structure: Day 1: Foundations of Public Relations Understanding Public Relations: Overview of the role and importance of public relations in organizational communication. Strategic Communication Planning: Developing strategic communication plans to align with organizational goals and objectives. Media Relations Basics: Introduction to media relations principles and practices, including writing press releases and media pitching. Day 2: Advanced PR and Corporate Communication Strategies Crisis Communication and Reputation Management: Techniques for managing communication during crises and protecting organizational reputation. Digital and Social Media in PR: Leveraging digital and social media platforms for effective communication and engagement. Stakeholder Engagement and Relationship Building: Strategies for building and maintaining positive relationships with internal and external stakeholders.
URL:https://keleaders.com/product/public-relations-and-corporate-communication/
LOCATION:
END:VEVENT
END:VCALENDAR
