BEGIN:VCALENDAR
VERSION:2.0
PRODID:-//Knowledge and Education Leaders
CALSCALE:GREGORIAN
METHOD:PUBLISH
X-WR-CALNAME:Knowledge and Education Leaders
X-ORIGINAL-URL:https://keleaders.com/product/financial-accounting-fundamentals/
X-WR-CALDESC:Financial Accounting Fundamentals for Business Managers
BEGIN:VEVENT
DTSTART;TZID=Europe/London:20260224T000000
DTEND;TZID=Europe/London:20260224T000000
SUMMARY:Financial Accounting Fundamentals for Business Managers
DESCRIPTION:
URL:https://keleaders.com/product/financial-accounting-fundamentals/
LOCATION:
END:VEVENT
END:VCALENDAR
