BEGIN:VCALENDAR
VERSION:2.0
PRODID:-//Knowledge and Education Leaders
CALSCALE:GREGORIAN
METHOD:PUBLISH
X-WR-CALNAME:Knowledge and Education Leaders
X-ORIGINAL-URL:https://keleaders.com/product/effective-business-risk-management/
X-WR-CALDESC:Effective Business Risk Management Strategies
BEGIN:VEVENT
DTSTART;TZID=Europe/London:20260810T000000
DTEND;TZID=Europe/London:20260814T000000
SUMMARY:Effective Business Risk Management Strategies
DESCRIPTION:
URL:https://keleaders.com/product/effective-business-risk-management/
LOCATION:
END:VEVENT
END:VCALENDAR
